BEGIN:VCALENDAR
VERSION:2.0
PRODID:icalendar-ruby
CALSCALE:GREGORIAN
METHOD:PUBLISH
BEGIN:VEVENT
DTSTAMP:20260425T150028Z
UID:50-397932@firstunited138.tithelysetup2.com
DTSTART:20260503T220000Z
DTEND:20260503T230000Z
CLASS:PUBLIC
CREATED:20260417T131614
DESCRIPTION:Join us for a traditional hymn sing in our Sanctuary. Rev. John
  Gaskill will be joining us to help lead the singing\, offering insight in
 to our favorite hymns! Come on out and be ready to request one of your fav
 orites. Bring a friend or neighbor! The whole community is welcome!
LAST-MODIFIED:20260417T131614
LOCATION:159 S Main St. Williamstown\, NJ 08094
SUMMARY:Good Old Fashioned Hymn Sing
URL;VALUE=URI:https://1umcwilliamstown.com/events/good-old-fashioned-hymn-s
 ing/2026-05-03
ATTACH;FILENAME=i0GY.jpg;FMTTYPE=image/jpeg:https://dq5pwpg1q8ru0.cloudfron
 t.net/2026/04/17/17/16/14/b4a23f96-e196-4536-9d4d-5292dff789be/i0GY.jpg
END:VEVENT
END:VCALENDAR
